BEGIN:VCALENDAR
VERSION:2.0
PRODID:-//Vperformance06 - ECPv6.15.20//NONSGML v1.0//EN
CALSCALE:GREGORIAN
METHOD:PUBLISH
X-ORIGINAL-URL:https://vperformance06.com
X-WR-CALDESC:Évènements pour Vperformance06
REFRESH-INTERVAL;VALUE=DURATION:PT1H
X-Robots-Tag:noindex
X-PUBLISHED-TTL:PT1H
BEGIN:VTIMEZONE
TZID:Europe/Paris
BEGIN:DAYLIGHT
TZOFFSETFROM:+0100
TZOFFSETTO:+0200
TZNAME:CEST
DTSTART:20240331T010000
END:DAYLIGHT
BEGIN:STANDARD
TZOFFSETFROM:+0200
TZOFFSETTO:+0100
TZNAME:CET
DTSTART:20241027T010000
END:STANDARD
BEGIN:DAYLIGHT
TZOFFSETFROM:+0100
TZOFFSETTO:+0200
TZNAME:CEST
DTSTART:20250330T010000
END:DAYLIGHT
BEGIN:STANDARD
TZOFFSETFROM:+0200
TZOFFSETTO:+0100
TZNAME:CET
DTSTART:20251026T010000
END:STANDARD
BEGIN:DAYLIGHT
TZOFFSETFROM:+0100
TZOFFSETTO:+0200
TZNAME:CEST
DTSTART:20260329T010000
END:DAYLIGHT
BEGIN:STANDARD
TZOFFSETFROM:+0200
TZOFFSETTO:+0100
TZNAME:CET
DTSTART:20261025T010000
END:STANDARD
END:VTIMEZONE
BEGIN:VEVENT
DTSTART;TZID=Europe/Paris:20250720T083000
DTEND;TZID=Europe/Paris:20250720T180000
DTSTAMP:20260422T032552
CREATED:20250527T122625Z
LAST-MODIFIED:20250527T122625Z
UID:1185-1753000200-1753034400@vperformance06.com
SUMMARY:Journée Pédagogique
DESCRIPTION:Une journée de sensibilisation spécialement dédiée aux usagers de deux-roues motorisés (2RM).Cette action pédagogique vise à renforcer la sécurité des motards\, à travers des ateliers pratiques et des moments d’échange conviviaux\, encadrés par des intervenants expérimentés. \n🛠️ Au programme :\n\n\n✅ Bases de la conduite en sécurité à moto \n\n\n🧠 L’atelier secourisme avec le P.A.S. (Protéger – Alerter – Secourir) \n\n\n💥 Démonstration de gilet airbag \n\n\n🔧 Vérifications techniques sur les motos \n\n\n🏁 Parcours de maniabilité \n\n\n🛣️ Roulage encadré en conditions réelles \n\n\nCasse-croûte de midi inclus
URL:https://vperformance06.com/evenement/journee-pedagogique/
LOCATION:Espace terre de Siagne\, 98 chemin Alain Martin\, Saint Cézaire sur Siagne\, 06530\, France
ATTACH;FMTTYPE=application/pdf:https://vperformance06.com/wp-content/uploads/2025/05/FLYERS-VPERFORMANCE.pdf.pdf
ORGANIZER;CN="V Performance":MAILTO:vperformance06@gmail.com
END:VEVENT
END:VCALENDAR