BEGIN:VCALENDAR
VERSION:2.0
PRODID:-//Vperformance06 - ECPv6.15.20//NONSGML v1.0//EN
CALSCALE:GREGORIAN
METHOD:PUBLISH
X-ORIGINAL-URL:https://vperformance06.com
X-WR-CALDESC:Évènements pour Vperformance06
REFRESH-INTERVAL;VALUE=DURATION:PT1H
X-Robots-Tag:noindex
X-PUBLISHED-TTL:PT1H
BEGIN:VTIMEZONE
TZID:Europe/Paris
BEGIN:DAYLIGHT
TZOFFSETFROM:+0100
TZOFFSETTO:+0200
TZNAME:CEST
DTSTART:20240331T010000
END:DAYLIGHT
BEGIN:STANDARD
TZOFFSETFROM:+0200
TZOFFSETTO:+0100
TZNAME:CET
DTSTART:20241027T010000
END:STANDARD
BEGIN:DAYLIGHT
TZOFFSETFROM:+0100
TZOFFSETTO:+0200
TZNAME:CEST
DTSTART:20250330T010000
END:DAYLIGHT
BEGIN:STANDARD
TZOFFSETFROM:+0200
TZOFFSETTO:+0100
TZNAME:CET
DTSTART:20251026T010000
END:STANDARD
BEGIN:DAYLIGHT
TZOFFSETFROM:+0100
TZOFFSETTO:+0200
TZNAME:CEST
DTSTART:20260329T010000
END:DAYLIGHT
BEGIN:STANDARD
TZOFFSETFROM:+0200
TZOFFSETTO:+0100
TZNAME:CET
DTSTART:20261025T010000
END:STANDARD
END:VTIMEZONE
BEGIN:VEVENT
DTSTART;TZID=Europe/Paris:20250622T100000
DTEND;TZID=Europe/Paris:20250622T180000
DTSTAMP:20260422T033353
CREATED:20250519T164902Z
LAST-MODIFIED:20250531T081553Z
UID:1175-1750586400-1750615200@vperformance06.com
SUMMARY:Roulons Ensemble deuxième édition
DESCRIPTION:Pour la deuxième année consécutive\, notre association revient avec Roulons Ensemble. \nOrganisée en hommage à Vincenzo\, grâce à la municipalité de Saint Cézaire sur Siagne\, cette journée rassemblera tous les acteurs de la prévention routière mais aussi des passionnés de motos\, d’automobiles et de camions. \nDe nombreuse activités et animations pour petits et grands seront proposées tel que la piste William\, simulateur 2 roues\, des tests de code de la route par l’auto-école WARM UP\, démonstration de déclenchement de gilet airbag par notre partenaire WROOM\, parcours sportif et premiers secours par nos Pompiers\, relevage de moto par le Lycée Léon Chiris\, de nombreux baptêmes en Trikes par Trikers PACA et voitures\, du roulage encadré par l’AFDM et la Gendarmerie\, vous pourrez vous essayer au parcours de maniabilité avec votre propre moto\, faire participer votre moto à un concours de beauté avec un très beau lot à gagner\, jouer à notre tombola\, si vous venez en famille l’association ADM vous proposera un parcours ludique en mini-motos\, et bien d’autres encore … \nIMPORTANT : Nous organisons un cortège en hommage à Vincenzo à motos. Départ à 8h30 du Carrefour Market du Tignet. Venez nombreux. \nCopiez ce lien sur votre barre de recherche pour confirmer votre participation au cortège. \nhttps://doodle.com/sign-up-sheet/participate/8f681ba0-af30-428f-aa86-d13d7b28e5ad/select \nRestauration sur place et entrée gratuite.
URL:https://vperformance06.com/evenement/roulons-ensemble-deuxieme-edition/
LOCATION:Espace terre de Siagne\, 98 chemin Alain Martin\, Saint Cézaire sur Siagne\, 06530\, France
ATTACH;FMTTYPE=image/png:https://vperformance06.com/wp-content/uploads/2025/04/image.png
ORGANIZER;CN="V Performance":MAILTO:vperformance06@gmail.com
END:VEVENT
END:VCALENDAR