BEGIN:VCALENDAR
VERSION:2.0
PRODID:-//Vperformance06 - ECPv6.15.20//NONSGML v1.0//EN
CALSCALE:GREGORIAN
METHOD:PUBLISH
X-ORIGINAL-URL:https://vperformance06.com
X-WR-CALDESC:Évènements pour Vperformance06
REFRESH-INTERVAL;VALUE=DURATION:PT1H
X-Robots-Tag:noindex
X-PUBLISHED-TTL:PT1H
BEGIN:VTIMEZONE
TZID:Europe/Paris
BEGIN:DAYLIGHT
TZOFFSETFROM:+0100
TZOFFSETTO:+0200
TZNAME:CEST
DTSTART:20250330T010000
END:DAYLIGHT
BEGIN:STANDARD
TZOFFSETFROM:+0200
TZOFFSETTO:+0100
TZNAME:CET
DTSTART:20251026T010000
END:STANDARD
BEGIN:DAYLIGHT
TZOFFSETFROM:+0100
TZOFFSETTO:+0200
TZNAME:CEST
DTSTART:20260329T010000
END:DAYLIGHT
BEGIN:STANDARD
TZOFFSETFROM:+0200
TZOFFSETTO:+0100
TZNAME:CET
DTSTART:20261025T010000
END:STANDARD
BEGIN:DAYLIGHT
TZOFFSETFROM:+0100
TZOFFSETTO:+0200
TZNAME:CEST
DTSTART:20270328T010000
END:DAYLIGHT
BEGIN:STANDARD
TZOFFSETFROM:+0200
TZOFFSETTO:+0100
TZNAME:CET
DTSTART:20271031T010000
END:STANDARD
END:VTIMEZONE
BEGIN:VEVENT
DTSTART;TZID=Europe/Paris:20260425T080000
DTEND;TZID=Europe/Paris:20260425T170000
DTSTAMP:20260421T115746
CREATED:20260331T171950Z
LAST-MODIFIED:20260412T191841Z
UID:1413-1777104000-1777136400@vperformance06.com
SUMMARY:Le 25 avril 2026 Journée pédagogique
DESCRIPTION:Une journée de sensibilisation spécialement dédiée aux usagers de deux-roues motorisés (2RM).Cette action pédagogique vise à renforcer la sécurité des motards\, à travers des ateliers pratiques et des moments d’échange conviviaux\, encadrés par des intervenants expérimentés. \n🛠️ Au programme :\n\n\n✅ Bases de la conduite en sécurité à moto \n\n\n🧠 L’atelier secourisme avec le P.A.S. (Protéger – Alerter – Secourir) \n\n\n💥 Démonstration de gilet airbag \n\n\n🔧 Vérifications techniques sur les motos \n\n\n🏁 Parcours de maniabilité \n\n\n🛣️ Roulage encadré en conditions réelles \n\n\nCliquez sur le lien « site » juste plus bas\, pour télécharger les fiches à remplir et à nous retourner avant la Journée Pédagogique \nA noter pas de duos autorisés pendant le parcours de maniabilité et le roulage. \nCasse-croûte de midi inclus
URL:https://vperformance06.com/evenement/le-25-mai-2026-journee-pedagogique/
LOCATION:Parking fond neuve Opio\, Face au Carrefour Market\, Opio\, France
CATEGORIES:Journée pédagogique
ATTACH;FMTTYPE=image/jpeg:https://vperformance06.com/wp-content/uploads/2026/02/Flyer-definitif.jpeg
ORGANIZER;CN="V Performance":MAILTO:vperformance06@gmail.com
END:VEVENT
END:VCALENDAR